BEGIN:VCALENDAR
VERSION:2.0
PRODID:-//Friends of Joshua House - ECPv6.15.11//NONSGML v1.0//EN
CALSCALE:GREGORIAN
METHOD:PUBLISH
X-WR-CALNAME:Friends of Joshua House
X-ORIGINAL-URL:https://www.friendsofjoshuahouse.org
X-WR-CALDESC:Events for Friends of Joshua House
REFRESH-INTERVAL;VALUE=DURATION:PT1H
X-Robots-Tag:noindex
X-PUBLISHED-TTL:PT1H
BEGIN:VTIMEZONE
TZID:America/New_York
BEGIN:DAYLIGHT
TZOFFSETFROM:-0500
TZOFFSETTO:-0400
TZNAME:EDT
DTSTART:20250309T070000
END:DAYLIGHT
BEGIN:STANDARD
TZOFFSETFROM:-0400
TZOFFSETTO:-0500
TZNAME:EST
DTSTART:20251102T060000
END:STANDARD
BEGIN:DAYLIGHT
TZOFFSETFROM:-0500
TZOFFSETTO:-0400
TZNAME:EDT
DTSTART:20260308T070000
END:DAYLIGHT
BEGIN:STANDARD
TZOFFSETFROM:-0400
TZOFFSETTO:-0500
TZNAME:EST
DTSTART:20261101T060000
END:STANDARD
BEGIN:DAYLIGHT
TZOFFSETFROM:-0500
TZOFFSETTO:-0400
TZNAME:EDT
DTSTART:20270314T070000
END:DAYLIGHT
BEGIN:STANDARD
TZOFFSETFROM:-0400
TZOFFSETTO:-0500
TZNAME:EST
DTSTART:20271107T060000
END:STANDARD
BEGIN:DAYLIGHT
TZOFFSETFROM:-0500
TZOFFSETTO:-0400
TZNAME:EDT
DTSTART:20280312T070000
END:DAYLIGHT
BEGIN:STANDARD
TZOFFSETFROM:-0400
TZOFFSETTO:-0500
TZNAME:EST
DTSTART:20281105T060000
END:STANDARD
END:VTIMEZONE
BEGIN:VEVENT
DTSTART;TZID=America/New_York:20260416T113000
DTEND;TZID=America/New_York:20260416T130000
DTSTAMP:20260423T043553
CREATED:20240603T202044Z
LAST-MODIFIED:20260204T194753Z
UID:3347-1776339000-1776344400@www.friendsofjoshuahouse.org
SUMMARY:2026 Child Abuse Awareness Benefit
DESCRIPTION:Join us for our premier event of the year the Child Abuse Awareness Benefit Luncheon at Armature Works. Together\, we’ll honor survivors\, raise critical funds\, and shine a light on the ongoing needs of children who’ve experienced trauma. This powerful afternoon unites our community around healing\, hope\, and action. \nClick here to register: 2026 Child Abuse Awareness Benefit
URL:https://www.friendsofjoshuahouse.org/event/save-the-date-child-abuse-awareness-benefit-4/
LOCATION:The Gathering  – Tampa Armature Works\, 1910 Ola Avenue\, Tampa\, FL\, 33602\, United States
CATEGORIES:Joshua House Events
ATTACH;FMTTYPE=image/png:https://www.friendsofjoshuahouse.org/wp-content/uploads/2024/06/Untitled-design-e1752676053949.png
END:VEVENT
BEGIN:VEVENT
DTSTART;VALUE=DATE:20260701
DTEND;VALUE=DATE:20260801
DTSTAMP:20260423T043553
CREATED:20260416T141353Z
LAST-MODIFIED:20260416T141353Z
UID:4163-1782864000-1785542399@www.friendsofjoshuahouse.org
SUMMARY:Back To School Drive
DESCRIPTION:Support hundreds of children in foster care by donating the resources and funds they need to tackle the classroom with confidence. Our goal is for each child to feel ready and equipped to succeed in school and beyond. \nJoshua House Donation Center & Community Dropoff Locations
URL:https://www.friendsofjoshuahouse.org/event/back-to-school-drive/
CATEGORIES:Joshua House Events
ATTACH;FMTTYPE=image/png:https://www.friendsofjoshuahouse.org/wp-content/uploads/2026/04/Back-to-School-Drive-1.png
END:VEVENT
BEGIN:VEVENT
DTSTART;TZID=America/New_York:20260729T180000
DTEND;TZID=America/New_York:20260729T210000
DTSTAMP:20260423T043553
CREATED:20260403T195527Z
LAST-MODIFIED:20260403T200112Z
UID:4150-1785348000-1785358800@www.friendsofjoshuahouse.org
SUMMARY:Southern Eaze Bingo Night
DESCRIPTION:Join us Wednesday\, July 29\, 2026 at Southern Eaze Bar & Grill for games\, prizes\, and fun; all while benefiting the children at Joshua House! \nDoors Open : 6:00 pm | Games Start : 6:30 pm \nFor more information visit Friends of Joshua House on Facebook or Call Us at (813) 406-5694.
URL:https://www.friendsofjoshuahouse.org/event/southern-eaze-bingo-night-2/
LOCATION:Southern Eaze Bar & Grill\, 18430 Livingston Ave\, Lutz\, FL\, 33559\, United States
CATEGORIES:Partner Events
ATTACH;FMTTYPE=image/jpeg:https://www.friendsofjoshuahouse.org/wp-content/uploads/2026/04/Southern-Eaze-Bingo.jpg
END:VEVENT
BEGIN:VEVENT
DTSTART;TZID=America/New_York:20260926T180000
DTEND;TZID=America/New_York:20260926T220000
DTSTAMP:20260423T043553
CREATED:20240822T163827Z
LAST-MODIFIED:20260126T162815Z
UID:3444-1790445600-1790460000@www.friendsofjoshuahouse.org
SUMMARY:Save the Date - Joshua House Gala
DESCRIPTION:Please save the date for the 2026 Friends of Joshua House Gala at the Renaissance Hotel in Tampa. We look forward to welcoming you for an elegant and meaningful evening in support of our mission. Your presence would be greatly appreciated. \nInterested in Sponsorships?  Contact Dannielle Franza at dfranza@joshuahousetampa.org for more information. 
URL:https://www.friendsofjoshuahouse.org/event/save-the-date-joshua-house-gala/
LOCATION:Renaissance Tampa International Plaza Hotel\, 4200 Jim Walter Blvd\, Tampa\, FL\, 33607
ATTACH;FMTTYPE=image/jpeg:https://www.friendsofjoshuahouse.org/wp-content/uploads/2024/08/Renaissance-Hotel.jpg
END:VEVENT
BEGIN:VEVENT
DTSTART;VALUE=DATE:20261110
DTEND;VALUE=DATE:20261211
DTSTAMP:20260423T043553
CREATED:20260416T141333Z
LAST-MODIFIED:20260416T141333Z
UID:4166-1794268800-1796947199@www.friendsofjoshuahouse.org
SUMMARY:Holiday Gift Drive
DESCRIPTION:Fulfill holiday wish lists for hundreds of foster children at Joshua House and in the community! The children we serve may have never experienced receiving a holiday gift\, and this drive supports their healing and experience of childhood. \nJoshua House Donation Center & Community Dropoff Locations
URL:https://www.friendsofjoshuahouse.org/event/holiday-gift-drive/
CATEGORIES:Joshua House Events
ATTACH;FMTTYPE=image/png:https://www.friendsofjoshuahouse.org/wp-content/uploads/2026/04/Holiday-Gift-Drive.png
END:VEVENT
BEGIN:VEVENT
DTSTART;VALUE=DATE:20270118
DTEND;VALUE=DATE:20270119
DTSTAMP:20260423T043553
CREATED:20260416T141249Z
LAST-MODIFIED:20260416T141249Z
UID:4169-1800230400-1800316799@www.friendsofjoshuahouse.org
SUMMARY:Save the Date - Joshua House Golf Classic
DESCRIPTION:Join us at our annual golf tournament held on Martin Luther King Jr. Day of Service to help fund maintenance costs and shelter upkeep at Joshua House! \nThis tournament ensures our shelter is ready and well taken care of for our community’s most vulnerable.
URL:https://www.friendsofjoshuahouse.org/event/save-the-date-joshua-house-golf-classic/
LOCATION:Carrollwood Country Club\, 13903 Clubhouse Dr\, Tampa\, 33618\, United States
CATEGORIES:Partner Events
ATTACH;FMTTYPE=image/png:https://www.friendsofjoshuahouse.org/wp-content/uploads/2026/04/JH-Golf-Classic.png
END:VEVENT
END:VCALENDAR