BEGIN:VCALENDAR
VERSION:2.0
PRODID:-//Friends of Joshua House - ECPv6.15.11//NONSGML v1.0//EN
CALSCALE:GREGORIAN
METHOD:PUBLISH
X-WR-CALNAME:Friends of Joshua House
X-ORIGINAL-URL:https://www.friendsofjoshuahouse.org
X-WR-CALDESC:Events for Friends of Joshua House
REFRESH-INTERVAL;VALUE=DURATION:PT1H
X-Robots-Tag:noindex
X-PUBLISHED-TTL:PT1H
BEGIN:VTIMEZONE
TZID:America/New_York
BEGIN:DAYLIGHT
TZOFFSETFROM:-0500
TZOFFSETTO:-0400
TZNAME:EDT
DTSTART:20200308T070000
END:DAYLIGHT
BEGIN:STANDARD
TZOFFSETFROM:-0400
TZOFFSETTO:-0500
TZNAME:EST
DTSTART:20201101T060000
END:STANDARD
BEGIN:DAYLIGHT
TZOFFSETFROM:-0500
TZOFFSETTO:-0400
TZNAME:EDT
DTSTART:20210314T070000
END:DAYLIGHT
BEGIN:STANDARD
TZOFFSETFROM:-0400
TZOFFSETTO:-0500
TZNAME:EST
DTSTART:20211107T060000
END:STANDARD
BEGIN:DAYLIGHT
TZOFFSETFROM:-0500
TZOFFSETTO:-0400
TZNAME:EDT
DTSTART:20220313T070000
END:DAYLIGHT
BEGIN:STANDARD
TZOFFSETFROM:-0400
TZOFFSETTO:-0500
TZNAME:EST
DTSTART:20221106T060000
END:STANDARD
BEGIN:DAYLIGHT
TZOFFSETFROM:-0500
TZOFFSETTO:-0400
TZNAME:EDT
DTSTART:20230312T070000
END:DAYLIGHT
BEGIN:STANDARD
TZOFFSETFROM:-0400
TZOFFSETTO:-0500
TZNAME:EST
DTSTART:20231105T060000
END:STANDARD
BEGIN:DAYLIGHT
TZOFFSETFROM:-0500
TZOFFSETTO:-0400
TZNAME:EDT
DTSTART:20240310T070000
END:DAYLIGHT
BEGIN:STANDARD
TZOFFSETFROM:-0400
TZOFFSETTO:-0500
TZNAME:EST
DTSTART:20241103T060000
END:STANDARD
BEGIN:DAYLIGHT
TZOFFSETFROM:-0500
TZOFFSETTO:-0400
TZNAME:EDT
DTSTART:20250309T070000
END:DAYLIGHT
BEGIN:STANDARD
TZOFFSETFROM:-0400
TZOFFSETTO:-0500
TZNAME:EST
DTSTART:20251102T060000
END:STANDARD
END:VTIMEZONE
BEGIN:VTIMEZONE
TZID:UTC
BEGIN:STANDARD
TZOFFSETFROM:+0000
TZOFFSETTO:+0000
TZNAME:UTC
DTSTART:20210101T000000
END:STANDARD
END:VTIMEZONE
BEGIN:VEVENT
DTSTART;TZID=America/New_York:20241023T110000
DTEND;TZID=America/New_York:20241023T130000
DTSTAMP:20260425T082003
CREATED:20240910T142615Z
LAST-MODIFIED:20240910T142615Z
UID:3455-1729681200-1729688400@www.friendsofjoshuahouse.org
SUMMARY:2024 Fall into Fashion
DESCRIPTION:
URL:https://www.friendsofjoshuahouse.org/event/2024-fall-into-fashion/
LOCATION:Shanna & Bryan Glazer JCC\, 522 N Howard Ave\, Tampa\, FL\, 33606\, United States
CATEGORIES:Partner Events
ATTACH;FMTTYPE=image/webp:https://www.friendsofjoshuahouse.org/wp-content/uploads/2024/09/updated-web-header.webp
END:VEVENT
BEGIN:VEVENT
DTSTART;TZID=America/New_York:20240821T183000
DTEND;TZID=America/New_York:20240824T230000
DTSTAMP:20260425T082003
CREATED:20240718T183915Z
LAST-MODIFIED:20240822T162821Z
UID:3397-1724265000-1724540400@www.friendsofjoshuahouse.org
SUMMARY:Fashion's Finest Tampa Bay
DESCRIPTION:The mission of The Fashion Movement via Fashion’s Finest Tampa Bay is to provide the platform needed for emerging & established Fashion Designers\, Fashion Brands\, Boutiques\, Wardrobe Stylists\, Models\, Hair Stylists\, Make-up Artists\, style & beauty product vendors to present their brands in an ultra-organized and professional manner to the fashion community. \n 
URL:https://www.friendsofjoshuahouse.org/event/3397/
LOCATION:Hyatt Place Hotel\, 26000 Sierra Center Blvd\, Lutz\, FL\, 33559\, United States
CATEGORIES:Partner Events
ATTACH;FMTTYPE=image/jpeg:https://www.friendsofjoshuahouse.org/wp-content/uploads/2024/07/1.jpg
END:VEVENT
BEGIN:VEVENT
DTSTART;TZID=America/New_York:20240623T133000
DTEND;TZID=America/New_York:20240623T163000
DTSTAMP:20260425T082003
CREATED:20240201T135003Z
LAST-MODIFIED:20240201T135102Z
UID:3276-1719149400-1719160200@www.friendsofjoshuahouse.org
SUMMARY:Quarter Auction
DESCRIPTION:
URL:https://www.friendsofjoshuahouse.org/event/quarter-auction/
LOCATION:Beacon Square Civic Association\, 3741 Bradford Dr\, Holiday\, FL\, 34691\, United States
CATEGORIES:Partner Events
ATTACH;FMTTYPE=image/png:https://www.friendsofjoshuahouse.org/wp-content/uploads/2024/02/Quarter-Auction-2024.png
END:VEVENT
BEGIN:VEVENT
DTSTART;TZID=America/New_York:20240424T180000
DTEND;TZID=America/New_York:20240424T220000
DTSTAMP:20260425T082003
CREATED:20240201T133948Z
LAST-MODIFIED:20240423T221723Z
UID:3272-1713981600-1713996000@www.friendsofjoshuahouse.org
SUMMARY:Bingo Night at Southern Eaze
DESCRIPTION:
URL:https://www.friendsofjoshuahouse.org/event/bingo-night-at-southern-eaze/
LOCATION:FL
CATEGORIES:Partner Events
ATTACH;FMTTYPE=image/png:https://www.friendsofjoshuahouse.org/wp-content/uploads/2024/02/Bingo-southern-ease.png
END:VEVENT
BEGIN:VEVENT
DTSTART;TZID=America/New_York:20240411T113000
DTEND;TZID=America/New_York:20240411T130000
DTSTAMP:20260425T082003
CREATED:20230525T143119Z
LAST-MODIFIED:20240226T161644Z
UID:2631-1712835000-1712840400@www.friendsofjoshuahouse.org
SUMMARY:Child Abuse Awareness Benefit
DESCRIPTION:  \n \n \nAre you unable to attend the luncheon\, but would like to make a donation? Please use the button below. \n \n  \n  \nFor more information or assistance\, please contact\nDannielle Roqué\nDevelopment Coordinator\nFriends of Joshua House Foundation\, Inc.\ndroque@joshuahousetampa.org\n(813) 235-3759 – Cell(text or call)
URL:https://www.friendsofjoshuahouse.org/event/save-the-date-child-abuse-awareness-benefit-3/
LOCATION:The Gathering  – Tampa Armature Works\, 1910 Ola Avenue\, Tampa\, FL\, 33602\, United States
CATEGORIES:Joshua House Events
ATTACH;FMTTYPE=image/png:https://www.friendsofjoshuahouse.org/wp-content/uploads/2023/05/JOS-320-CAAB-Luncheon-Invite-PRINT1_Page_1.png
END:VEVENT
BEGIN:VEVENT
DTSTART;TZID=America/New_York:20240405T190000
DTEND;TZID=America/New_York:20240405T230000
DTSTAMP:20260425T082003
CREATED:20240201T132251Z
LAST-MODIFIED:20240201T132616Z
UID:3262-1712343600-1712358000@www.friendsofjoshuahouse.org
SUMMARY:LAMPLighters Fund Hope - Denim and Diamonds
DESCRIPTION:
URL:https://www.friendsofjoshuahouse.org/event/lamplighters-fund-hope-denim-and-diamonds/
LOCATION:Shanna & Bryan Glazer JCC\, 522 N Howard Ave\, Tampa\, FL\, 33606\, United States
CATEGORIES:Partner Events
ATTACH;FMTTYPE=image/png:https://www.friendsofjoshuahouse.org/wp-content/uploads/2024/02/denim-and-diamonds-LFH-logo-2024_edited.png
END:VEVENT
BEGIN:VEVENT
DTSTART;TZID=America/New_York:20240225T130000
DTEND;TZID=America/New_York:20240225T150000
DTSTAMP:20260425T082003
CREATED:20230525T142427Z
LAST-MODIFIED:20240129T194847Z
UID:2625-1708866000-1708873200@www.friendsofjoshuahouse.org
SUMMARY:2024 Pin Party for Joshua House
DESCRIPTION:Join us for a great day of bowling and support the children at Joshua House. \n$200 for a lane includes 6 bowlers\, 1 pitcher\, and 2 pizzas\, face painting\, and balloon artists. \n$40 per individual bowler \n \n  \nFor more information or assistance\, please contact\nDannielle Roqué\nDevelopment Coordinator\nFriends of Joshua House Foundation\, Inc.\ndroque@joshuahousetampa.org\n(813) 235-3759 – Cell(text or call)
URL:https://www.friendsofjoshuahouse.org/event/save-the-date-pin-party/
LOCATION:Pin Chasers\, 5555 W Hillsborough Ave\, Tampa\, 33534\, United States
CATEGORIES:Joshua House Events
ATTACH;FMTTYPE=application/pdf:https://www.friendsofjoshuahouse.org/wp-content/uploads/2023/05/Pin-Party-Flyer-2024-003.pdf
END:VEVENT
BEGIN:VEVENT
DTSTART;TZID=America/New_York:20240115T080000
DTEND;TZID=America/New_York:20240115T170000
DTSTAMP:20260425T082003
CREATED:20230525T142824Z
LAST-MODIFIED:20231127T165322Z
UID:2629-1705305600-1705338000@www.friendsofjoshuahouse.org
SUMMARY:MJH Golf Classic
DESCRIPTION:Circle the date on your calendar to join us for a fun day of golf! \n$1\,800 for a foursome includes 4 golfers\, beverages\, lunch\, dinner\, and cart
URL:https://www.friendsofjoshuahouse.org/event/save-the-date-mjh-golf-classic/
LOCATION:TPC Tampa Bay\, 5300 W Lutz Lake Fern Rd\, Lutz\, FL\, 33558\, United States
CATEGORIES:Joshua House Events
ATTACH;FMTTYPE=application/pdf:https://www.friendsofjoshuahouse.org/wp-content/uploads/2023/05/MJH-2024-Brochure-Logo.pdf
END:VEVENT
BEGIN:VEVENT
DTSTART;TZID=America/New_York:20231208T110000
DTEND;TZID=America/New_York:20231208T130000
DTSTAMP:20260425T082003
CREATED:20230922T142735Z
LAST-MODIFIED:20231127T164523Z
UID:3010-1702033200-1702040400@www.friendsofjoshuahouse.org
SUMMARY:LAMPLighters' 34th Annual Silver Coffee
DESCRIPTION:Please join us as LAMPLighters celebrate the season and presents the 34th Annual Christmas Silver Coffee \nHelp us ring in the holidays with fine fare and festiverefreshments while we raise funds for the children shelteredat Metropolitan Ministries and Joshua House.Complimentary valet
URL:https://www.friendsofjoshuahouse.org/event/lamplighters-34th-annual-silver-coffee/
LOCATION:FL
CATEGORIES:Partner Events
ATTACH;FMTTYPE=image/jpeg:https://www.friendsofjoshuahouse.org/wp-content/uploads/2023/09/Silver-CoffeeIMG_8493_JPG.jpeg
END:VEVENT
BEGIN:VEVENT
DTSTART;TZID=America/New_York:20231201T190000
DTEND;TZID=America/New_York:20231201T233000
DTSTAMP:20260425T082003
CREATED:20230803T143521Z
LAST-MODIFIED:20231127T165148Z
UID:2920-1701457200-1701473400@www.friendsofjoshuahouse.org
SUMMARY:Bow Ties & Clutches
DESCRIPTION:
URL:https://www.friendsofjoshuahouse.org/event/save-the-date-bow-ties-clutches/
LOCATION:Tampa Garden Club\, 2629 Bayshore Blvd\, Tampa\, 33629\, United States
CATEGORIES:Partner Events
ATTACH;FMTTYPE=image/jpeg:https://www.friendsofjoshuahouse.org/wp-content/uploads/2023/08/Save-the-Date.jpg
END:VEVENT
BEGIN:VEVENT
DTSTART;TZID=America/New_York:20231027T110000
DTEND;TZID=America/New_York:20231027T130000
DTSTAMP:20260425T082003
CREATED:20230922T142054Z
LAST-MODIFIED:20230922T143554Z
UID:3002-1698404400-1698411600@www.friendsofjoshuahouse.org
SUMMARY:LAMPLighters Fall into Fashion 2023
DESCRIPTION:The LAMPLighters are excited to host the annual Fall into Fashion on Friday\, October 27\, 2023\, from 11:00 am to 1:00pm at the Shanna & Bryan Glazer JCC with fashions by Dillard’s. \nAll net proceeds benefit the two charities they serve\, Metropolitan Ministries and\nJoshua House.  It’s going to be a lot of fun\, and we can’t wait to see you there!
URL:https://www.friendsofjoshuahouse.org/event/lamplighters-fall-into-fashion-2023/
LOCATION:Shanna & Bryan Glazer JCC\, 522 N Howard Ave\, Tampa\, FL\, 33606\, United States
CATEGORIES:Partner Events
ATTACH;FMTTYPE=image/jpeg:https://www.friendsofjoshuahouse.org/wp-content/uploads/2023/09/ticket_form_BNFghASRAE.jpg
END:VEVENT
BEGIN:VEVENT
DTSTART;TZID=America/New_York:20231021T200000
DTEND;TZID=America/New_York:20231021T233000
DTSTAMP:20260425T082003
CREATED:20230921T174011Z
LAST-MODIFIED:20230922T141200Z
UID:2996-1697918400-1697931000@www.friendsofjoshuahouse.org
SUMMARY:13 Ugly Men Halloween Party
DESCRIPTION:It’s NEVER too early to start putting your Halloween costume together. So save the date for the 13 Ugly Men Halloween Party on October 21st\, and get ready for a frightfully good time! This event has been one of our biggest parties for decades which raises money and awareness for local benefitting charities. \nOn Saturday\, October 21st\, join thousands of Tampa’s best-dressed in costume as “we party for a purpose.” The historic – and some claim haunted – Cuban Club in Ybor City brings a unique\, spooky indoor and outdoor space for our biggest party. Live DJs\, entertainment\, and the Bay’s finest ghouls and goblins will come together for a haunted night you won’t forget.
URL:https://www.friendsofjoshuahouse.org/event/13-ugly-men-halloween-party/
LOCATION:Cuban Club Ybor City\, 2010 N Avenida Republica de Cuba\,\, Tampa\, FL\, 33605\, United States
CATEGORIES:Partner Events
ATTACH;FMTTYPE=image/jpeg:https://www.friendsofjoshuahouse.org/wp-content/uploads/2023/09/363021422_683213783833865_8490094542042435021_n.jpg
END:VEVENT
BEGIN:VEVENT
DTSTART;TZID=America/New_York:20230906T180000
DTEND;TZID=America/New_York:20230906T210000
DTSTAMP:20260425T082003
CREATED:20230510T180507Z
LAST-MODIFIED:20230510T180622Z
UID:2602-1694023200-1694034000@www.friendsofjoshuahouse.org
SUMMARY:Bingo at Southern Eaze
DESCRIPTION:  \n\n\n\nDoors open at 6\, Bingo starts at 6:30pm\nSouthern Eaze Bar & Grill\n10 games for $10. Cash to play\n50/50\nPrizes for all 10 games
URL:https://www.friendsofjoshuahouse.org/event/bingo-at-southern-eaze/
LOCATION:Southern Eaze Bar & Grill\, 18430 Livingston Ave\, Lutz\, FL\, 33559\, United States
CATEGORIES:Partner Events
ATTACH;FMTTYPE=application/pdf:https://www.friendsofjoshuahouse.org/wp-content/uploads/2023/05/Southern-Eaze-Bingo-9.6.23.pdf
END:VEVENT
BEGIN:VEVENT
DTSTART;TZID=America/New_York:20230607T180000
DTEND;TZID=America/New_York:20230607T210000
DTSTAMP:20260425T082003
CREATED:20230510T175440Z
LAST-MODIFIED:20230510T211231Z
UID:2595-1686160800-1686171600@www.friendsofjoshuahouse.org
SUMMARY:Bingo Night!
DESCRIPTION:Join us for Bingo at Black Sheep American Pub \n\n\n\nDoors open at 6:00pm\, games start at 7\nCash only for Bingo games – there is an ATM on site.\n10 games for $10.00\n50/50 raffle tickets – 6 tickets for $5.00 or 1 ticket for $1.00
URL:https://www.friendsofjoshuahouse.org/event/2595/
LOCATION:Black Sheep American Pub\, 18450 U S 41\, Lutz\, FL\, 33549\, United States
CATEGORIES:Partner Events
ATTACH;FMTTYPE=application/pdf:https://www.friendsofjoshuahouse.org/wp-content/uploads/2023/05/Bingo-Night-Flyer-6.7.pdf
END:VEVENT
BEGIN:VEVENT
DTSTART;TZID=America/New_York:20230603T193000
DTEND;TZID=America/New_York:20230604T000000
DTSTAMP:20260425T082003
CREATED:20230525T141702Z
LAST-MODIFIED:20230525T142129Z
UID:2619-1685820600-1685836800@www.friendsofjoshuahouse.org
SUMMARY:2nd Annual MOFAMILY Jam
DESCRIPTION:Join us for a night of fun and great music at the MOFAMILY Jam on Saturday\, June 3rd at Hooch and Hive!
URL:https://www.friendsofjoshuahouse.org/event/2nd-annual-mofamily-jam/
LOCATION:Hooch and Hive\, 1001 W Cass St\, Tampa\, FL 33606\, Tampa\, 33606\, United States
CATEGORIES:Partner Events
ATTACH;FMTTYPE=application/pdf:https://www.friendsofjoshuahouse.org/wp-content/uploads/2023/05/MoFamily-Jam-Hooch-Hive-June-3-2023-Poster-Portrait-11-17-in-3.pdf
END:VEVENT
BEGIN:VEVENT
DTSTART;TZID=America/New_York:20230603T190000
DTEND;TZID=America/New_York:20230604T000000
DTSTAMP:20260425T082003
CREATED:20230510T173441Z
LAST-MODIFIED:20230525T143652Z
UID:2586-1685818800-1685836800@www.friendsofjoshuahouse.org
SUMMARY:Pure Couture the Gala
DESCRIPTION:Join us for another incredible event presented by The Fashion Movement to benefit Joshua House.\n“A Colorful Evening of Style & Fashion”\nPURE COUTURE…the Gala\n“The All-Inclusive high fashion extravaganza filled with unique styles”
URL:https://www.friendsofjoshuahouse.org/event/pure-couture-the-gala/
LOCATION:The Art Institute of Tampa 4401 North Himes Avenue #Suite 150 Tampa\, FL 33614\, 4401 North Himes Avenue #Suite 150\, Tampa\, 33614\, United States
CATEGORIES:Partner Events
ATTACH;FMTTYPE=image/png:https://www.friendsofjoshuahouse.org/wp-content/uploads/2023/05/img-1426-1___27131400208.png
END:VEVENT
BEGIN:VEVENT
DTSTART;TZID=America/New_York:20230413T113000
DTEND;TZID=America/New_York:20230413T133000
DTSTAMP:20260425T082003
CREATED:20230124T144457Z
LAST-MODIFIED:20230306T191403Z
UID:2497-1681385400-1681392600@www.friendsofjoshuahouse.org
SUMMARY:Child Abuse Awareness Benefit
DESCRIPTION:The Individual Ticket price is $60.00 per person and you can register by clicking on the Website Link to the right.\nInformation on sponsorships may also be found by clicking on the Website Link.
URL:https://www.friendsofjoshuahouse.org/event/save-the-date-child-abuse-awareness-benefit-2/
LOCATION:The Gathering  – Tampa Armature Works\, 1910 Ola Avenue\, Tampa\, FL\, 33602\, United States
CATEGORIES:Joshua House Events
ATTACH;FMTTYPE=image/png:https://www.friendsofjoshuahouse.org/wp-content/uploads/2023/01/JOS-297-CAAB-logo-and-headline.png
END:VEVENT
BEGIN:VEVENT
DTSTART;TZID=America/New_York:20230226T130000
DTEND;TZID=America/New_York:20230226T170000
DTSTAMP:20260425T082003
CREATED:20230116T153940Z
LAST-MODIFIED:20230222T141054Z
UID:2478-1677416400-1677430800@www.friendsofjoshuahouse.org
SUMMARY:2023 Pin Party
DESCRIPTION:
URL:https://www.friendsofjoshuahouse.org/event/2023-pin-party/
LOCATION:Pin Chasers\, 5555 W Hillsborough Ave\, Tampa\, 33534\, United States
CATEGORIES:Joshua House Events
ATTACH;FMTTYPE=image/png:https://www.friendsofjoshuahouse.org/wp-content/uploads/2023/01/Picture2.png
END:VEVENT
BEGIN:VEVENT
DTSTART;TZID=UTC:20230116T090000
DTEND;TZID=UTC:20230116T160000
DTSTAMP:20260425T082003
CREATED:20221031T190357Z
LAST-MODIFIED:20221031T193652Z
UID:1084-1673859600-1673884800@www.friendsofjoshuahouse.org
SUMMARY:Save The Date - 30th Anniversary MJH Golf Classic
DESCRIPTION:
URL:https://www.friendsofjoshuahouse.org/event/save-the-date-30th-anniversary-mjh-golf-classic/
LOCATION:TPC Tampa Bay\, 5300 W Lutz Lake Fern Rd\, Lutz\, FL\, 33558\, United States
CATEGORIES:Partner Events
ATTACH;FMTTYPE=image/jpeg:https://www.friendsofjoshuahouse.org/wp-content/uploads/2022/10/220909-mjh-30-annual-logo-horizontal.jpg
END:VEVENT
BEGIN:VEVENT
DTSTART;TZID=UTC:20221210T200000
DTEND;TZID=UTC:20221211T010000
DTSTAMP:20260425T082003
CREATED:20220912T145656Z
LAST-MODIFIED:20220920T202107Z
UID:954-1670702400-1670720400@www.friendsofjoshuahouse.org
SUMMARY:Bow Ties & Clutches - The International Style Night Party
DESCRIPTION:“The International Style Night Party…An Evening for the Stylish You & Charity” Benefiting Joshua House. \n\n\n\n\nBowties & Clutches® – “An evening for the stylish You & Charity.” \nTampa Bay’s premier fashion/style party and the critics choice award winner returns. After a two year absence due to the Covid-19 pandemic\, we can’t wait to see our fashionable friends all decked in their fabulous attires accessorised by the famous Bowties and Clutches. \nJoin us again on Saturday December 10th at the beautiful Tampa Garden Club for the11th season of “Bowties & Clutches®” benefiting Joshua House. At The Fashion Movement\, our goal annually at Bowties & Clutches® is to raise funds to assist with the needs of Joshua House. Joshua House is a safe haven for abused\, abandoned and neglected kids. \nWe have a fabulous evening in store for you. Another fun-filled night of high fashion and style on the red carpet as we celebrate 11 years of giving to Joshua House and the Tampa Bay community. \n  \n***FOR SPONSORSHIP OPPORTUNITIES AND TO DONATE RAFFLE/AUCTION ITEMS PLEASE EMAIL: bowtiesandclutches@gmail.com \n**Gen. Adm. Purchase – Premium Cash Bar \n**VIP Adm. Purchase – All Inclusive (Premium Open Bar) & Exclusive VIP Experience \n**Delicious Appetizers & Desserts \n**Red Carpet Entrance along the velvet rope \n**Red Carpet Photo Ops \n**360 Photo Booth by Blackstone Ent. \n**Raffle Prizes / Silent Auction \n**Live Musical Performances \n– Candi The Violinist \n– Ashley Smith (Vocalist) \n**Exclusive Art Exhibits \n**Cigar Lounge by Black & Tan \n**Live DJ – Dance Music (LET’S PARTY) \n\n\n\n\n 
URL:https://www.friendsofjoshuahouse.org/event/954/
LOCATION:Tampa Garden Club\, 2629 Bayshore Blvd\, Tampa\, 33629\, United States
CATEGORIES:Partner Events
ATTACH;FMTTYPE=image/jpeg:https://www.friendsofjoshuahouse.org/wp-content/uploads/2022/09/305537022_5383555401765084_5991401099471526381_n.jpg
END:VEVENT
BEGIN:VEVENT
DTSTART;TZID=UTC:20221026T110000
DTEND;TZID=UTC:20221026T130000
DTSTAMP:20260425T082003
CREATED:20221010T142428Z
LAST-MODIFIED:20221010T142714Z
UID:1014-1666782000-1666789200@www.friendsofjoshuahouse.org
SUMMARY:LAMPLighters' Fall Into Fashion
DESCRIPTION:
URL:https://www.friendsofjoshuahouse.org/event/lamplighters-fall-into-fashion/
LOCATION:Renaissance Tampa International Plaza Hotel\, 4200 Jim Walter Blvd\, Tampa\, FL\, 33607
CATEGORIES:Partner Events
ATTACH;FMTTYPE=image/png:https://www.friendsofjoshuahouse.org/wp-content/uploads/2022/10/2022-Fall-into-Fashion.png
END:VEVENT
BEGIN:VEVENT
DTSTART;TZID=UTC:20221020T160000
DTEND;TZID=UTC:20221020T190000
DTSTAMP:20260425T082003
CREATED:20220920T200410Z
LAST-MODIFIED:20220920T201600Z
UID:985-1666281600-1666292400@www.friendsofjoshuahouse.org
SUMMARY:LTB Foundation - AWS Title Presents "A Tony Robbins Peak Performance Workshop"
DESCRIPTION:
URL:https://www.friendsofjoshuahouse.org/event/ltb-foundation-aws-title-presents-a-tony-robbins-peak-performance-workshop/
LOCATION:Westshore Yacht Club\, 6003 Beacon Shores St\, Tampa\, 33616\, United States
CATEGORIES:Partner Events
ATTACH;FMTTYPE=image/png:https://www.friendsofjoshuahouse.org/wp-content/uploads/2022/09/FA-LTB-Tony-Robbins-Email.png
END:VEVENT
BEGIN:VEVENT
DTSTART;TZID=UTC:20220612T160000
DTEND;TZID=UTC:20220612T210000
DTSTAMP:20260425T082003
CREATED:20220505T155604Z
LAST-MODIFIED:20220505T155604Z
UID:725-1655049600-1655067600@www.friendsofjoshuahouse.org
SUMMARY:Pure Couture  The White Party Benefitting Joshua House
DESCRIPTION:
URL:https://www.friendsofjoshuahouse.org/event/pure-couture-the-white-party-benefitting-joshua-house/
LOCATION:FL
CATEGORIES:Partner Events
END:VEVENT
BEGIN:VEVENT
DTSTART;TZID=America/New_York:20220408T113000
DTEND;TZID=America/New_York:20220408T130000
DTSTAMP:20260425T082003
CREATED:20211105T150951Z
LAST-MODIFIED:20220224T184954Z
UID:449-1649417400-1649422800@www.friendsofjoshuahouse.org
SUMMARY:Save the Date - Child Abuse Awareness Benefit
DESCRIPTION:The Annual Child Abuse Awareness Benefit never fails to inspire and educate our community. Join both corporate and child welfare leaders for this luncheon that benefits Joshua House\, a premier program for children and teens who have been abused\, abandoned and neglected. \n  \nKEYNOTE SPEAKER: ASHLEY RHODES-COURTER\nBorn in 1985 to a single teen mother Ashley was placed in foster care at the age of 3. Most of her 14 placements were abusive and overcrowded. In one home\, 16 people lived in a small trailer where the children were regularly beaten\, neglected\, verbally assaulted\, and starved. Another foster parent became a convicted pedophile. At one point\, she was also placed with an alcoholic relative that was shot twice in front of her. After spending almost ten years in the system\, Ashley was finally adopted from a group home when she was twelve. Instead of seeing herself as a victim\, Ashley has used her experience to find the strength to accomplish incredible things. She became a New York Times Bestselling author by age 22\, holds a Master’s Degree in Social Work\, ran for Florida State Senate at age 26\, created and heads a non-profit organization\, and she has been a foster parent to more than 20 children. In this inspiring keynote\, Ashley will show audiences how to overcome their own personal and professional challenges to accomplish more than they ever thought possible. She delivers her story with humor and grace\, and attendees will leave energized and ready to take on the world! \nTo learn more about the Annual Child Abuse Awareness Benefit\, please CLICK HERE. \n\nTo join us at a table or for more information on Corporate Sponsorship\, please CLICK HERE  or call 813-406-5694.
URL:https://www.friendsofjoshuahouse.org/event/save-the-date-child-abuse-awareness-benefit/
LOCATION:The Gathering  – Tampa Armature Works\, 1910 Ola Avenue\, Tampa\, FL\, 33602\, United States
ATTACH;FMTTYPE=image/png:https://www.friendsofjoshuahouse.org/wp-content/uploads/2021/11/JOS-281-CAAB-Luncheon-invite-DIGITALjust-image.png
END:VEVENT
BEGIN:VEVENT
DTSTART;TZID=America/New_York:20220227T130000
DTEND;TZID=America/New_York:20220227T150000
DTSTAMP:20260425T082003
CREATED:20220124T144846Z
LAST-MODIFIED:20220208T125406Z
UID:479-1645966800-1645974000@www.friendsofjoshuahouse.org
SUMMARY:2022 Pin Party
DESCRIPTION:Join us on Sunday\, February 27th for the 2022 Pin Party.\nHelp make a difference One Pin at a Time! \nTeams of 6 per lane.\n$150 per lane. $25 per person\n(Minimum 4 per lane) \nPizza & Pitcher on every lane!\nFree Shoes! Door Prizes! Fantastic Auction!\n50/50! Balloon Artist and Face Painters! \nFor more information and to register\, please visit\,\nhttps://tinyurl.com/2022PinParty \nPin Chasers – Midtown LOCATION!\n4847 N Armenia Ave\nTampa\, FL 33603
URL:https://www.friendsofjoshuahouse.org/event/2022-pin-party/
LOCATION:Pin Chasers\, 5555 W Hillsborough Ave\, Tampa\, 33534\, United States
ATTACH;FMTTYPE=image/jpeg:https://www.friendsofjoshuahouse.org/wp-content/uploads/2022/01/00405094.jpg
END:VEVENT
BEGIN:VEVENT
DTSTART;TZID=America/New_York:20220117T083000
DTEND;TZID=America/New_York:20220117T170000
DTSTAMP:20260425T082003
CREATED:20211105T114340Z
LAST-MODIFIED:20211105T115909Z
UID:428-1642408200-1642438800@www.friendsofjoshuahouse.org
SUMMARY:MJH Golf Classic 29
DESCRIPTION:  \nJoin us for a fun day of golf at World Woods Golf Club\,\nBrooksville\, FL\nBenefiting Children’s Charities\, Education and Joshua House \nFor more information on Sponsorships or to register to play\,\nplease visit mjhgolfclassic.org. \n 
URL:https://www.friendsofjoshuahouse.org/event/mjh-golf-classic-29/
LOCATION:World Woods Golf Club\, 17590 Ponce De Leon Blvd\, Brooksville\, FL\, 34614\, United States
ATTACH;FMTTYPE=image/png:https://www.friendsofjoshuahouse.org/wp-content/uploads/2021/11/Logo-image-e1636113373753.png
END:VEVENT
BEGIN:VEVENT
DTSTART;TZID=America/New_York:20211022T190000
DTEND;TZID=America/New_York:20211022T223000
DTSTAMP:20260425T082003
CREATED:20210915T141226Z
LAST-MODIFIED:20210915T143044Z
UID:390-1634929200-1634941800@www.friendsofjoshuahouse.org
SUMMARY:Barn Burner
DESCRIPTION:The Law Office of Lucas & Magazine Presents BARN BURNER\nFundraiser & Dance Party to Benefit Friends of Joshua House Foundation\, Inc \nFood Catered by Vesh\n\nFall menu served\nDessert bar\nCoffee and hot chocolate bar\nCash Bar\n\nTickets\n\n$50 per person\nTicket purchase can be made at LucasMagazineFoundation.com\n\nEvent & Table Sponsorships Available\nContact Yvette Behmer at 727.849.5353. Please make checks payable to the Lucas Magazine Community Foundation. Lucas Magazine Community Foundation is a 501(c)(3) charitable corporation. Please refer to IRS Publication 526. \n  \n \n 
URL:https://www.friendsofjoshuahouse.org/event/barn-burner/
LOCATION:The Barn at Crescent Lake Old McMicky’s Farm\, 9612 Crescent Drive\, Odessa\, FL\, 33556\, United States
ATTACH;FMTTYPE=image/png:https://www.friendsofjoshuahouse.org/wp-content/uploads/2021/09/Barn-Burner.png
ORGANIZER;CN="The Law Offices of Lucas & Magazine":MAILTO:yvette@lucasmagazine.com
END:VEVENT
END:VCALENDAR